BEGIN:VCALENDAR
VERSION:2.0
PRODID:-//Children&#039;s Orchestra Society - ECPv6.15.18//NONSGML v1.0//EN
CALSCALE:GREGORIAN
METHOD:PUBLISH
X-WR-CALNAME:Children&#039;s Orchestra Society
X-ORIGINAL-URL:https://childrensorch.org
X-WR-CALDESC:Events for Children&#039;s Orchestra Society
REFRESH-INTERVAL;VALUE=DURATION:PT1H
X-Robots-Tag:noindex
X-PUBLISHED-TTL:PT1H
BEGIN:VTIMEZONE
TZID:America/New_York
BEGIN:DAYLIGHT
TZOFFSETFROM:-0500
TZOFFSETTO:-0400
TZNAME:EDT
DTSTART:20230312T070000
END:DAYLIGHT
BEGIN:STANDARD
TZOFFSETFROM:-0400
TZOFFSETTO:-0500
TZNAME:EST
DTSTART:20231105T060000
END:STANDARD
BEGIN:DAYLIGHT
TZOFFSETFROM:-0500
TZOFFSETTO:-0400
TZNAME:EDT
DTSTART:20240310T070000
END:DAYLIGHT
BEGIN:STANDARD
TZOFFSETFROM:-0400
TZOFFSETTO:-0500
TZNAME:EST
DTSTART:20241103T060000
END:STANDARD
BEGIN:DAYLIGHT
TZOFFSETFROM:-0500
TZOFFSETTO:-0400
TZNAME:EDT
DTSTART:20250309T070000
END:DAYLIGHT
BEGIN:STANDARD
TZOFFSETFROM:-0400
TZOFFSETTO:-0500
TZNAME:EST
DTSTART:20251102T060000
END:STANDARD
BEGIN:DAYLIGHT
TZOFFSETFROM:-0500
TZOFFSETTO:-0400
TZNAME:EDT
DTSTART:20260308T070000
END:DAYLIGHT
BEGIN:STANDARD
TZOFFSETFROM:-0400
TZOFFSETTO:-0500
TZNAME:EST
DTSTART:20261101T060000
END:STANDARD
BEGIN:DAYLIGHT
TZOFFSETFROM:-0500
TZOFFSETTO:-0400
TZNAME:EDT
DTSTART:20270314T070000
END:DAYLIGHT
BEGIN:STANDARD
TZOFFSETFROM:-0400
TZOFFSETTO:-0500
TZNAME:EST
DTSTART:20271107T060000
END:STANDARD
END:VTIMEZONE
BEGIN:VEVENT
DTSTART;TZID=America/New_York:20260412T190000
DTEND;TZID=America/New_York:20260412T210000
DTSTAMP:20260424T203259
CREATED:20260319T041124Z
LAST-MODIFIED:20260320T131804Z
UID:10000103-1776020400-1776027600@childrensorch.org
SUMMARY:21st Annual Masterworks Concert
DESCRIPTION:
URL:https://childrensorch.org/event/21st-annual-masterworks-concert/
LOCATION:Good Shepperd-Faith Presbyterian Church\, 152 W. 66th St.\, New York\, NY\, 10023\, United States
CATEGORIES:Concerts
END:VEVENT
BEGIN:VEVENT
DTSTART;TZID=America/New_York:20250406T190000
DTEND;TZID=America/New_York:20250406T210000
DTSTAMP:20260424T203259
CREATED:20241210T134815Z
LAST-MODIFIED:20250313T022438Z
UID:10000052-1743966000-1743973200@childrensorch.org
SUMMARY:Masterworks Concert
DESCRIPTION:
URL:https://childrensorch.org/event/masterworks-concert/
LOCATION:Good Shepperd-Faith Presbyterian Church\, 152 W. 66th St.\, New York\, NY\, 10023\, United States
CATEGORIES:Concerts
ATTACH;FMTTYPE=image/jpeg:https://childrensorch.org/wp-content/uploads/2024/12/Masterworks-Apr06-2025.jpg
END:VEVENT
BEGIN:VEVENT
DTSTART;TZID=America/New_York:20240407T190000
DTEND;TZID=America/New_York:20240407T210000
DTSTAMP:20260424T203259
CREATED:20240314T012827Z
LAST-MODIFIED:20240314T040401Z
UID:10000002-1712516400-1712523600@childrensorch.org
SUMMARY:19th Annual Masterworks Concert
DESCRIPTION:An evening showcasing the COS faculty\, alumni\, and friends performing celebrated classic masterworks.
URL:https://childrensorch.org/event/19th-annual-masterworks-concert/
LOCATION:Good Shepperd-Faith Presbyterian Church\, 152 W. 66th St.\, New York\, NY\, 10023\, United States
CATEGORIES:Concerts
ATTACH;FMTTYPE=image/jpeg:https://childrensorch.org/wp-content/uploads/2024/03/429590324_10159470358055689_1256974935443578926_n.jpg
END:VEVENT
END:VCALENDAR